BEGIN:VCALENDAR
VERSION:2.0
PRODID:-//Associação de Atletismo da Região Autónoma da Madeira - ECPv5.1.6//NONSGML v1.0//EN
CALSCALE:GREGORIAN
METHOD:PUBLISH
X-WR-CALNAME:Associação de Atletismo da Região Autónoma da Madeira
X-ORIGINAL-URL:http://atletismodamadeira.pt
X-WR-CALDESC:Events for Associação de Atletismo da Região Autónoma da Madeira
BEGIN:VTIMEZONE
TZID:Atlantic/Madeira
BEGIN:DAYLIGHT
TZOFFSETFROM:+0000
TZOFFSETTO:+0100
TZNAME:WEST
DTSTART:20190331T010000
END:DAYLIGHT
BEGIN:STANDARD
TZOFFSETFROM:+0100
TZOFFSETTO:+0000
TZNAME:WET
DTSTART:20191027T010000
END:STANDARD
END:VTIMEZONE
BEGIN:VEVENT
DTSTART;VALUE=DATE:20190427
DTEND;VALUE=DATE:20190429
DTSTAMP:20260420T002652
CREATED:20190214T140951Z
LAST-MODIFIED:20190428T184628Z
UID:14127-1556323200-1556495999@atletismodamadeira.pt
SUMMARY:Atleta Completo - Infantis / Iniciados
DESCRIPTION:Local: Ribeira Brava e Funchal \nOrganização: AARAM \nÂmbito: Regional \nObservações: Taça Infantis / Taça Iniciados \n \n \n 
URL:http://atletismodamadeira.pt/event/atleta-completo-infantis-iniciados-3/
LOCATION:Funchal (RG3) e Ribeira Brava (CDM)\, Sítio da Fajã da Ribeira\, Ribeira Brava\, 9350
CATEGORIES:Pista,Regional
ATTACH;FMTTYPE=image/jpeg:http://atletismodamadeira.pt/wp-content/uploads/2018/10/Heptathlon.jpg
END:VEVENT
END:VCALENDAR