BEGIN:VCALENDAR
VERSION:2.0
PRODID:-//Associação de Atletismo da Região Autónoma da Madeira - ECPv5.1.6//NONSGML v1.0//EN
CALSCALE:GREGORIAN
METHOD:PUBLISH
X-WR-CALNAME:Associação de Atletismo da Região Autónoma da Madeira
X-ORIGINAL-URL:http://atletismodamadeira.pt
X-WR-CALDESC:Events for Associação de Atletismo da Região Autónoma da Madeira
BEGIN:VTIMEZONE
TZID:Atlantic/Madeira
BEGIN:DAYLIGHT
TZOFFSETFROM:+0000
TZOFFSETTO:+0100
TZNAME:WEST
DTSTART:20170326T010000
END:DAYLIGHT
BEGIN:STANDARD
TZOFFSETFROM:+0100
TZOFFSETTO:+0000
TZNAME:WET
DTSTART:20171029T010000
END:STANDARD
END:VTIMEZONE
BEGIN:VEVENT
DTSTART;VALUE=DATE:20170715
DTEND;VALUE=DATE:20170717
DTSTAMP:20260421T062222
CREATED:20170105T165415Z
LAST-MODIFIED:20170716T161256Z
UID:3978-1500076800-1500249599@atletismodamadeira.pt
SUMMARY:Campeonato Regional Absoluto
DESCRIPTION:Local: Ribeira Brava e Funchal \nOrganização: AARAM \nÂmbito: Regional \nObservações: Taça da Madeira \n \n \n \n 
URL:http://atletismodamadeira.pt/event/campeonato-regional-absoluto-2/
LOCATION:Funchal (RG3) e Ribeira Brava (CDM)\, Sítio da Fajã da Ribeira\, Ribeira Brava\, 9350
CATEGORIES:Pista,Regional,Taça da Madeira
END:VEVENT
END:VCALENDAR