BEGIN:VCALENDAR
VERSION:2.0
PRODID:-//Associação de Atletismo da Região Autónoma da Madeira - ECPv5.1.6//NONSGML v1.0//EN
CALSCALE:GREGORIAN
METHOD:PUBLISH
X-WR-CALNAME:Associação de Atletismo da Região Autónoma da Madeira
X-ORIGINAL-URL:http://atletismodamadeira.pt
X-WR-CALDESC:Events for Associação de Atletismo da Região Autónoma da Madeira
BEGIN:VTIMEZONE
TZID:UTC
BEGIN:STANDARD
TZOFFSETFROM:+0000
TZOFFSETTO:+0000
TZNAME:UTC
DTSTART:20150101T000000
END:STANDARD
END:VTIMEZONE
BEGIN:VEVENT
DTSTART;VALUE=DATE:20151128
DTEND;VALUE=DATE:20151129
DTSTAMP:20260422T122104
CREATED:20160103T160738Z
LAST-MODIFIED:20160217T110552Z
UID:420-1448668800-1448755199@atletismodamadeira.pt
SUMMARY:Campeonato Regional de Estrada - 10km
DESCRIPTION:Regulamento: E03_CR_Estrada – Mini-Meia_Maratona \nÂmbito: Regional \nOrganização: AARAM \nObservações: Madeira a Correr \nResultados: 1590003_CR_Estrada
URL:http://atletismodamadeira.pt/event/campeonato-regional-de-estrada-10km/
LOCATION:Porto Santo\, Portugal
CATEGORIES:Estrada
END:VEVENT
END:VCALENDAR