BEGIN:VCALENDAR
VERSION:2.0
PRODID:-//Associação de Atletismo da Região Autónoma da Madeira - ECPv5.1.6//NONSGML v1.0//EN
CALSCALE:GREGORIAN
METHOD:PUBLISH
X-WR-CALNAME:Associação de Atletismo da Região Autónoma da Madeira
X-ORIGINAL-URL:http://atletismodamadeira.pt
X-WR-CALDESC:Events for Associação de Atletismo da Região Autónoma da Madeira
BEGIN:VTIMEZONE
TZID:UTC
BEGIN:STANDARD
TZOFFSETFROM:+0000
TZOFFSETTO:+0000
TZNAME:UTC
DTSTART:20150101T000000
END:STANDARD
END:VTIMEZONE
BEGIN:VEVENT
DTSTART;VALUE=DATE:20151208
DTEND;VALUE=DATE:20151209
DTSTAMP:20260422T104838
CREATED:20160103T160738Z
LAST-MODIFIED:20160217T111818Z
UID:425-1449532800-1449619199@atletismodamadeira.pt
SUMMARY:Circuito de Porto Moniz
DESCRIPTION:Regulamento: E04_Circuito_Porto_Moniz \nÂmbito: Regional \nOrganização: CPPM/AARAM \nObservações: Madeira a Correr \nResultados: 1690006_Circuito_PMoniz
URL:http://atletismodamadeira.pt/event/circuito-de-porto-moniz/
LOCATION:Porto Moniz\, Portugal
CATEGORIES:Estrada
END:VEVENT
END:VCALENDAR