BEGIN:VCALENDAR
VERSION:2.0
PRODID:-//Associação de Atletismo da Região Autónoma da Madeira - ECPv5.1.6//NONSGML v1.0//EN
CALSCALE:GREGORIAN
METHOD:PUBLISH
X-WR-CALNAME:Associação de Atletismo da Região Autónoma da Madeira
X-ORIGINAL-URL:http://atletismodamadeira.pt
X-WR-CALDESC:Events for Associação de Atletismo da Região Autónoma da Madeira
BEGIN:VTIMEZONE
TZID:Atlantic/Madeira
BEGIN:DAYLIGHT
TZOFFSETFROM:+0000
TZOFFSETTO:+0100
TZNAME:WEST
DTSTART:20180325T010000
END:DAYLIGHT
BEGIN:STANDARD
TZOFFSETFROM:+0100
TZOFFSETTO:+0000
TZNAME:WET
DTSTART:20181028T010000
END:STANDARD
END:VTIMEZONE
BEGIN:VEVENT
DTSTART;TZID=Atlantic/Madeira:20180506T090000
DTEND;TZID=Atlantic/Madeira:20180506T100000
DTSTAMP:20260420T210239
CREATED:20180205T185612Z
LAST-MODIFIED:20180506T092340Z
UID:8681-1525597200-1525600800@atletismodamadeira.pt
SUMMARY:Circuito do Monte
DESCRIPTION:Local: Funchal \nOrganização: AARAM \nÂmbito: Regional \nObservações: Madeira a Correr
URL:http://atletismodamadeira.pt/event/circuito-do-monte-3/
CATEGORIES:Estrada,Madeira a Correr,Regional
END:VEVENT
END:VCALENDAR