BEGIN:VCALENDAR
VERSION:2.0
PRODID:-//Associação de Atletismo da Região Autónoma da Madeira - ECPv5.1.6//NONSGML v1.0//EN
CALSCALE:GREGORIAN
METHOD:PUBLISH
X-WR-CALNAME:Associação de Atletismo da Região Autónoma da Madeira
X-ORIGINAL-URL:http://atletismodamadeira.pt
X-WR-CALDESC:Events for Associação de Atletismo da Região Autónoma da Madeira
BEGIN:VTIMEZONE
TZID:Atlantic/Madeira
BEGIN:DAYLIGHT
TZOFFSETFROM:+0000
TZOFFSETTO:+0100
TZNAME:WEST
DTSTART:20170326T010000
END:DAYLIGHT
BEGIN:STANDARD
TZOFFSETFROM:+0100
TZOFFSETTO:+0000
TZNAME:WET
DTSTART:20171029T010000
END:STANDARD
END:VTIMEZONE
BEGIN:VEVENT
DTSTART;TZID=Atlantic/Madeira:20170701T094500
DTEND;TZID=Atlantic/Madeira:20170701T104500
DTSTAMP:20260424T012142
CREATED:20170105T164615Z
LAST-MODIFIED:20170704T095725Z
UID:3970-1498902300-1498905900@atletismodamadeira.pt
SUMMARY:Corrida do Dia da Região
DESCRIPTION:Local: Funchal \nOrganização: JFS/AARAM \nÂmbito: Regional \nObservações: Madeira a Correr \n \n \n 
URL:http://atletismodamadeira.pt/event/corrida-do-dia-da-regiao-2/
LOCATION:Funchal\, Funchal\, Madeira\, Portugal
CATEGORIES:Estrada,Madeira a Correr,Regional
END:VEVENT
END:VCALENDAR