BEGIN:VCALENDAR
VERSION:2.0
PRODID:-//Associação de Atletismo da Região Autónoma da Madeira - ECPv5.1.6//NONSGML v1.0//EN
CALSCALE:GREGORIAN
METHOD:PUBLISH
X-WR-CALNAME:Associação de Atletismo da Região Autónoma da Madeira
X-ORIGINAL-URL:http://atletismodamadeira.pt
X-WR-CALDESC:Events for Associação de Atletismo da Região Autónoma da Madeira
BEGIN:VTIMEZONE
TZID:Atlantic/Madeira
BEGIN:DAYLIGHT
TZOFFSETFROM:+0000
TZOFFSETTO:+0100
TZNAME:WEST
DTSTART:20170326T010000
END:DAYLIGHT
BEGIN:STANDARD
TZOFFSETFROM:+0100
TZOFFSETTO:+0000
TZNAME:WET
DTSTART:20171029T010000
END:STANDARD
END:VTIMEZONE
BEGIN:VEVENT
DTSTART;TZID=Atlantic/Madeira:20170325T203000
DTEND;TZID=Atlantic/Madeira:20170325T213000
DTSTAMP:20260421T134541
CREATED:20161109T175857Z
LAST-MODIFIED:20170327T104226Z
UID:3317-1490473800-1490477400@atletismodamadeira.pt
SUMMARY:Corrida Nocturna da Hora do Planeta / Santander Totta
DESCRIPTION:Local: Funchal \nOrganização: CMF / AARAM \nÂmbito: Regional \nEstará em funcionamento no “Hall de entrada da Câmara Municipal do Funchal” o secretariado do evento\, onde os participantes deverão se dirigir\, para levantamento da t-shirt\, “head light” (se for o caso)\, dorsal e chip\, nos dias e horários abaixo indicados: \n\n23 de março – das 15h00 às 19h00;\n24 de março – das 10h30 às 19h00;\n25 de março – das 10h00 às 19h00;
URL:http://atletismodamadeira.pt/event/corrida-noturna-da-hora-do-planeta-2/
LOCATION:Funchal\, Funchal\, Madeira\, Portugal
CATEGORIES:Estrada,Regional
END:VEVENT
END:VCALENDAR