BEGIN:VCALENDAR
VERSION:2.0
PRODID:-//Associação de Atletismo da Região Autónoma da Madeira - ECPv5.1.6//NONSGML v1.0//EN
CALSCALE:GREGORIAN
METHOD:PUBLISH
X-WR-CALNAME:Associação de Atletismo da Região Autónoma da Madeira
X-ORIGINAL-URL:http://atletismodamadeira.pt
X-WR-CALDESC:Events for Associação de Atletismo da Região Autónoma da Madeira
BEGIN:VTIMEZONE
TZID:Atlantic/Madeira
BEGIN:DAYLIGHT
TZOFFSETFROM:+0000
TZOFFSETTO:+0100
TZNAME:WEST
DTSTART:20170326T010000
END:DAYLIGHT
BEGIN:STANDARD
TZOFFSETFROM:+0100
TZOFFSETTO:+0000
TZNAME:WET
DTSTART:20171029T010000
END:STANDARD
END:VTIMEZONE
BEGIN:VEVENT
DTSTART;TZID=Atlantic/Madeira:20170429T090000
DTEND;TZID=Atlantic/Madeira:20170429T123000
DTSTAMP:20260421T174424
CREATED:20170321T161432Z
LAST-MODIFIED:20170429T115142Z
UID:4792-1493456400-1493469000@atletismodamadeira.pt
SUMMARY:Encontro da Taça Fun'Athletics
DESCRIPTION:Local: Estádio de Câmara de Lobos \nOrganização: Escola B+S da Camacha / AARAM \nÂmbito: Regional \nObservações: Em parceria com a Direção de Serviços do Desporto Escolar (DSDE)
URL:http://atletismodamadeira.pt/event/encontro-da-taca-funathletics/
LOCATION:Câmara de Lobos\, Câmara de Lobos\, 9300\, Portugal
CATEGORIES:Pista / Escolar,Regional,Taça Fun'Athletics
END:VEVENT
END:VCALENDAR