BEGIN:VCALENDAR
VERSION:2.0
PRODID:-//Associação de Atletismo da Região Autónoma da Madeira - ECPv5.1.6//NONSGML v1.0//EN
CALSCALE:GREGORIAN
METHOD:PUBLISH
X-WR-CALNAME:Associação de Atletismo da Região Autónoma da Madeira
X-ORIGINAL-URL:http://atletismodamadeira.pt
X-WR-CALDESC:Events for Associação de Atletismo da Região Autónoma da Madeira
BEGIN:VTIMEZONE
TZID:UTC
BEGIN:STANDARD
TZOFFSETFROM:+0000
TZOFFSETTO:+0000
TZNAME:UTC
DTSTART:20150101T000000
END:STANDARD
END:VTIMEZONE
BEGIN:VEVENT
DTSTART;VALUE=DATE:20151205
DTEND;VALUE=DATE:20151206
DTSTAMP:20260422T121941
CREATED:20160103T160738Z
LAST-MODIFIED:20160217T111205Z
UID:422-1449273600-1449359999@atletismodamadeira.pt
SUMMARY:Encontro de Benjamins - Fun'Athletics
DESCRIPTION:Regulamento: P02_Taca_FunAthletics-E_2 \nÂmbito: Regional \nOrganização: AJS/AARAM \nObservações: Taça Benjamins + Torneio Escolar \nResultados: Encontro_2_Benj_2016_Results
URL:http://atletismodamadeira.pt/event/encontro-de-benjamins-funathletics-2/
LOCATION:Câmara de Lobos\, Câmara de Lobos\, 9300\, Portugal
CATEGORIES:Pista / Escolar
END:VEVENT
END:VCALENDAR