BEGIN:VCALENDAR
VERSION:2.0
PRODID:-//Associação de Atletismo da Região Autónoma da Madeira - ECPv5.1.6//NONSGML v1.0//EN
CALSCALE:GREGORIAN
METHOD:PUBLISH
X-WR-CALNAME:Associação de Atletismo da Região Autónoma da Madeira
X-ORIGINAL-URL:http://atletismodamadeira.pt
X-WR-CALDESC:Events for Associação de Atletismo da Região Autónoma da Madeira
BEGIN:VTIMEZONE
TZID:UTC
BEGIN:STANDARD
TZOFFSETFROM:+0000
TZOFFSETTO:+0000
TZNAME:UTC
DTSTART:20150101T000000
END:STANDARD
END:VTIMEZONE
BEGIN:VEVENT
DTSTART;VALUE=DATE:20151115
DTEND;VALUE=DATE:20151116
DTSTAMP:20260422T135643
CREATED:20160103T160737Z
LAST-MODIFIED:20160217T110105Z
UID:417-1447545600-1447631999@atletismodamadeira.pt
SUMMARY:GP Atlântida / Câmara de Lobos - Funchal
DESCRIPTION:Regulamento: E02_Camara_Lobos-Funchal \nÂmbito: Regional \nOrganização: AARAM \nObservações: Madeira a Correr \nResultados: XLIX_GP_CL-Funchal
URL:http://atletismodamadeira.pt/event/gp-atlantida-camara-de-lobos-funchal/
LOCATION:C. Lobos – Funchal\, Portugal
CATEGORIES:Estrada
END:VEVENT
END:VCALENDAR