BEGIN:VCALENDAR
VERSION:2.0
PRODID:-//Associação de Atletismo da Região Autónoma da Madeira - ECPv5.1.6//NONSGML v1.0//EN
CALSCALE:GREGORIAN
METHOD:PUBLISH
X-WR-CALNAME:Associação de Atletismo da Região Autónoma da Madeira
X-ORIGINAL-URL:http://atletismodamadeira.pt
X-WR-CALDESC:Events for Associação de Atletismo da Região Autónoma da Madeira
BEGIN:VTIMEZONE
TZID:Atlantic/Madeira
BEGIN:DAYLIGHT
TZOFFSETFROM:+0000
TZOFFSETTO:+0100
TZNAME:WEST
DTSTART:20190331T010000
END:DAYLIGHT
BEGIN:STANDARD
TZOFFSETFROM:+0100
TZOFFSETTO:+0000
TZNAME:WET
DTSTART:20191027T010000
END:STANDARD
END:VTIMEZONE
BEGIN:VEVENT
DTSTART;TZID=Atlantic/Madeira:20190501T090000
DTEND;TZID=Atlantic/Madeira:20190501T104500
DTSTAMP:20260419T213710
CREATED:20190214T141130Z
LAST-MODIFIED:20190501T101608Z
UID:14129-1556701200-1556707500@atletismodamadeira.pt
SUMMARY:Grande Prémio 1º de Maio / Camp. Reg. Estrada Inf/Inic
DESCRIPTION:Local: Ribeira Brava \nOrganização: ACDSJ / AARAM \nÂmbito: Regional \nObservações: MC / MC Coletiva / Mini MC\n \n  \n\n \n \n 
URL:http://atletismodamadeira.pt/event/grande-premio-1o-de-maio-camp-reg-estrada-inf-inic/
LOCATION:Ribeira Brava (CDM)\, Sítio da Fajã da Ribeira (7\,95 km)\, Ribeira Brava\, Madeira\, 9350-147\, Portugal
CATEGORIES:Estrada,Madeira a Correr,Mini Madeira a Correr,Regional
END:VEVENT
END:VCALENDAR