BEGIN:VCALENDAR
VERSION:2.0
PRODID:-//Associação de Atletismo da Região Autónoma da Madeira - ECPv5.1.6//NONSGML v1.0//EN
CALSCALE:GREGORIAN
METHOD:PUBLISH
X-WR-CALNAME:Associação de Atletismo da Região Autónoma da Madeira
X-ORIGINAL-URL:http://atletismodamadeira.pt
X-WR-CALDESC:Events for Associação de Atletismo da Região Autónoma da Madeira
BEGIN:VTIMEZONE
TZID:Atlantic/Madeira
BEGIN:DAYLIGHT
TZOFFSETFROM:+0000
TZOFFSETTO:+0100
TZNAME:WEST
DTSTART:20170326T010000
END:DAYLIGHT
BEGIN:STANDARD
TZOFFSETFROM:+0100
TZOFFSETTO:+0000
TZNAME:WET
DTSTART:20171029T010000
END:STANDARD
END:VTIMEZONE
BEGIN:VEVENT
DTSTART;TZID=Atlantic/Madeira:20170501T093000
DTEND;TZID=Atlantic/Madeira:20170501T110000
DTSTAMP:20260421T191824
CREATED:20170105T154214Z
LAST-MODIFIED:20170504T095942Z
UID:3919-1493631000-1493636400@atletismodamadeira.pt
SUMMARY:Grande Prémio 1º de Maio / Camp. Reg. Estrada Inf/Inic
DESCRIPTION:Local: Ribeira Brava \nOrganização: ACDSJ / AARAM \nÂmbito: Regional \nObservações: Madeira a Correr / Taça Infantis / Taça Iniciados
URL:http://atletismodamadeira.pt/event/grande-premio-1o-de-maio-camp-reg-estrada-infinic/
LOCATION:Ribeira Brava (CDM)\, Sítio da Fajã da Ribeira (7\,95 km)\, Ribeira Brava\, Madeira\, 9350-147\, Portugal
CATEGORIES:Estrada,Madeira a Correr,Regional
END:VEVENT
END:VCALENDAR