BEGIN:VCALENDAR
VERSION:2.0
PRODID:-//Associação de Atletismo da Região Autónoma da Madeira - ECPv5.1.6//NONSGML v1.0//EN
CALSCALE:GREGORIAN
METHOD:PUBLISH
X-WR-CALNAME:Associação de Atletismo da Região Autónoma da Madeira
X-ORIGINAL-URL:http://atletismodamadeira.pt
X-WR-CALDESC:Events for Associação de Atletismo da Região Autónoma da Madeira
BEGIN:VTIMEZONE
TZID:Atlantic/Madeira
BEGIN:DAYLIGHT
TZOFFSETFROM:+0000
TZOFFSETTO:+0100
TZNAME:WEST
DTSTART:20180325T010000
END:DAYLIGHT
BEGIN:STANDARD
TZOFFSETFROM:+0100
TZOFFSETTO:+0000
TZNAME:WET
DTSTART:20181028T010000
END:STANDARD
END:VTIMEZONE
BEGIN:VEVENT
DTSTART;VALUE=DATE:20180414
DTEND;VALUE=DATE:20180415
DTSTAMP:20260420T172736
CREATED:20180130T164037Z
LAST-MODIFIED:20180416T220524Z
UID:8580-1523664000-1523750399@atletismodamadeira.pt
SUMMARY:Meia Maratona do Porto Santo / Campeonato Regional de Meia Maratona
DESCRIPTION:Âmbito: Internacional \nOrganização: AARAM \nSecretariado:\nLevantamento de Passagens/dorsais e chips\, na Sede da AARAM\, em Câmara de Lobos: \n\nTerça-Feira – 15h00 às 18h00 para os atletas/acompanhantes que viajam quarta-feira (11/04);\nQuarta-Feira – 15h00 às 18h00 para os atletas/acompanhantes que viajam quinta-feira (12/04);\nQuinta-Feira – 11h00 às 18h00 para os atletas/acompanhantes que viajam sexta-feira e Sábado (13/04 e 14/04)\nSexta-Feira – 10h00 às 15h00 para os atletas/acompanhantes que viajam sexta-feira e Sábado (13/04 e 14/04)\n\nMais informamos que não serão entregues passagens junto ao barco! \n 
URL:http://atletismodamadeira.pt/event/meia-maratona-do-porto-santo-2/
CATEGORIES:Estrada,Regional
END:VEVENT
END:VCALENDAR