BEGIN:VCALENDAR
VERSION:2.0
PRODID:-//Associação de Atletismo da Região Autónoma da Madeira - ECPv5.1.6//NONSGML v1.0//EN
CALSCALE:GREGORIAN
METHOD:PUBLISH
X-WR-CALNAME:Associação de Atletismo da Região Autónoma da Madeira
X-ORIGINAL-URL:http://atletismodamadeira.pt
X-WR-CALDESC:Events for Associação de Atletismo da Região Autónoma da Madeira
BEGIN:VTIMEZONE
TZID:Atlantic/Madeira
BEGIN:DAYLIGHT
TZOFFSETFROM:+0000
TZOFFSETTO:+0100
TZNAME:WEST
DTSTART:20190331T010000
END:DAYLIGHT
BEGIN:STANDARD
TZOFFSETFROM:+0100
TZOFFSETTO:+0000
TZNAME:WET
DTSTART:20191027T010000
END:STANDARD
END:VTIMEZONE
BEGIN:VEVENT
DTSTART;TZID=Atlantic/Madeira:20190510T193000
DTEND;TZID=Atlantic/Madeira:20190510T201500
DTSTAMP:20260419T200214
CREATED:20190214T141845Z
LAST-MODIFIED:20190510T192453Z
UID:14137-1557516600-1557519300@atletismodamadeira.pt
SUMMARY:Milha Urbana da Festa da Flôr
DESCRIPTION:Local: Funchal \nOrganização: AARAM \nÂmbito: Regional \nObservações: Madeira a Correr \n  \n \n \n \n \n 
URL:http://atletismodamadeira.pt/event/milha-urbana-da-festa-da-flor-3/
LOCATION:Funchal\, Funchal\, Madeira\, Portugal
CATEGORIES:Estrada,Madeira a Correr,Regional
END:VEVENT
END:VCALENDAR