BEGIN:VCALENDAR
VERSION:2.0
PRODID:-//Associação de Atletismo da Região Autónoma da Madeira - ECPv5.1.6//NONSGML v1.0//EN
CALSCALE:GREGORIAN
METHOD:PUBLISH
X-WR-CALNAME:Associação de Atletismo da Região Autónoma da Madeira
X-ORIGINAL-URL:http://atletismodamadeira.pt
X-WR-CALDESC:Events for Associação de Atletismo da Região Autónoma da Madeira
BEGIN:VTIMEZONE
TZID:Atlantic/Madeira
BEGIN:DAYLIGHT
TZOFFSETFROM:+0000
TZOFFSETTO:+0100
TZNAME:WEST
DTSTART:20170326T010000
END:DAYLIGHT
BEGIN:STANDARD
TZOFFSETFROM:+0100
TZOFFSETTO:+0000
TZNAME:WET
DTSTART:20171029T010000
END:STANDARD
END:VTIMEZONE
BEGIN:VEVENT
DTSTART;VALUE=DATE:20170422
DTEND;VALUE=DATE:20170424
DTSTAMP:20260421T101001
CREATED:20161109T193111Z
LAST-MODIFIED:20161109T193205Z
UID:3348-1492819200-1492991999@atletismodamadeira.pt
SUMMARY:MIUT - Madeira Island Ultra Trail
DESCRIPTION:Local: Madeira \nOrganização: CMOF \nÂmbito: Internacional \n \nMIUT – facebook \n 
URL:http://atletismodamadeira.pt/event/miut-madeira-island-ultra-trail-2/
LOCATION:Madeira\, Portugal
CATEGORIES:Trail
END:VEVENT
END:VCALENDAR