BEGIN:VCALENDAR
VERSION:2.0
PRODID:-//Associação de Atletismo da Região Autónoma da Madeira - ECPv5.1.6//NONSGML v1.0//EN
CALSCALE:GREGORIAN
METHOD:PUBLISH
X-WR-CALNAME:Associação de Atletismo da Região Autónoma da Madeira
X-ORIGINAL-URL:http://atletismodamadeira.pt
X-WR-CALDESC:Events for Associação de Atletismo da Região Autónoma da Madeira
BEGIN:VTIMEZONE
TZID:Atlantic/Madeira
BEGIN:DAYLIGHT
TZOFFSETFROM:+0000
TZOFFSETTO:+0100
TZNAME:WEST
DTSTART:20170326T010000
END:DAYLIGHT
BEGIN:STANDARD
TZOFFSETFROM:+0100
TZOFFSETTO:+0000
TZNAME:WET
DTSTART:20171029T010000
END:STANDARD
END:VTIMEZONE
BEGIN:VEVENT
DTSTART;VALUE=DATE:20170422
DTEND;VALUE=DATE:20170424
DTSTAMP:20260421T101103
CREATED:20161109T193811Z
LAST-MODIFIED:20170424T153508Z
UID:3352-1492819200-1492991999@atletismodamadeira.pt
SUMMARY:Olímpico Jovem - 1ª jornada
DESCRIPTION:Local: Funchal (RG3) e Ribeira Brava \nOrganização: AARAM \nÂmbito: Regional \nObservações: Taça de Infantis / Taça de Iniciados / Taça Jovem \n \n \n 
URL:http://atletismodamadeira.pt/event/olimpico-jovem-1a-jornada/
LOCATION:Funchal (RG3) e Ribeira Brava (CDM)\, Sítio da Fajã da Ribeira\, Ribeira Brava\, 9350
CATEGORIES:Pista,Regional
END:VEVENT
END:VCALENDAR