BEGIN:VCALENDAR
VERSION:2.0
PRODID:-//Associação de Atletismo da Região Autónoma da Madeira - ECPv5.1.6//NONSGML v1.0//EN
CALSCALE:GREGORIAN
METHOD:PUBLISH
X-WR-CALNAME:Associação de Atletismo da Região Autónoma da Madeira
X-ORIGINAL-URL:http://atletismodamadeira.pt
X-WR-CALDESC:Events for Associação de Atletismo da Região Autónoma da Madeira
BEGIN:VTIMEZONE
TZID:Atlantic/Madeira
BEGIN:DAYLIGHT
TZOFFSETFROM:+0000
TZOFFSETTO:+0100
TZNAME:WEST
DTSTART:20170326T010000
END:DAYLIGHT
BEGIN:STANDARD
TZOFFSETFROM:+0100
TZOFFSETTO:+0000
TZNAME:WET
DTSTART:20171029T010000
END:STANDARD
END:VTIMEZONE
BEGIN:VEVENT
DTSTART;TZID=Atlantic/Madeira:20170513T100000
DTEND;TZID=Atlantic/Madeira:20170513T192500
DTSTAMP:20260422T015800
CREATED:20170105T160124Z
LAST-MODIFIED:20170515T175124Z
UID:3928-1494669600-1494703500@atletismodamadeira.pt
SUMMARY:Olímpico Jovem Regional - 3ª jornada
DESCRIPTION:Local: Ribeira Brava e Funchal \nOrganização: AARAM \nÂmbito: Regional \nObservações: Taça Infantis / Taça Iniciados / Taça Jovem \n \n \n 
URL:http://atletismodamadeira.pt/event/olimpico-jovem-regional-3a-jornada-2/
LOCATION:Funchal (RG3) e Ribeira Brava (CDM)\, Sítio da Fajã da Ribeira\, Ribeira Brava\, 9350
CATEGORIES:Pista,Regional
END:VEVENT
END:VCALENDAR