BEGIN:VCALENDAR
VERSION:2.0
PRODID:-//Associação de Atletismo da Região Autónoma da Madeira - ECPv5.1.6//NONSGML v1.0//EN
CALSCALE:GREGORIAN
METHOD:PUBLISH
X-WR-CALNAME:Associação de Atletismo da Região Autónoma da Madeira
X-ORIGINAL-URL:http://atletismodamadeira.pt
X-WR-CALDESC:Events for Associação de Atletismo da Região Autónoma da Madeira
BEGIN:VTIMEZONE
TZID:Atlantic/Madeira
BEGIN:DAYLIGHT
TZOFFSETFROM:+0000
TZOFFSETTO:+0100
TZNAME:WEST
DTSTART:20180325T010000
END:DAYLIGHT
BEGIN:STANDARD
TZOFFSETFROM:+0100
TZOFFSETTO:+0000
TZNAME:WET
DTSTART:20181028T010000
END:STANDARD
END:VTIMEZONE
BEGIN:VEVENT
DTSTART;VALUE=DATE:20180414
DTEND;VALUE=DATE:20180415
DTSTAMP:20260420T160549
CREATED:20171122T195555Z
LAST-MODIFIED:20180414T213043Z
UID:7546-1523664000-1523750399@atletismodamadeira.pt
SUMMARY:Quilómetro Jovem - Final Regional
DESCRIPTION:Local: Câmara de Lobos \nOrganização: AARAM / DSDE \nÂmbito: Regional / Escolar \nObservações: Taças Fun’Athletics / Infantis / Iniciados / Jovens \n \n \n 
URL:http://atletismodamadeira.pt/event/quilometro-jovem-final-regional/
CATEGORIES:Pista,Pista / Escolar,Regional,Taça Fun'Athletics
END:VEVENT
END:VCALENDAR