BEGIN:VCALENDAR
VERSION:2.0
PRODID:-//Associação de Atletismo da Região Autónoma da Madeira - ECPv5.1.6//NONSGML v1.0//EN
CALSCALE:GREGORIAN
METHOD:PUBLISH
X-WR-CALNAME:Associação de Atletismo da Região Autónoma da Madeira
X-ORIGINAL-URL:http://atletismodamadeira.pt
X-WR-CALDESC:Events for Associação de Atletismo da Região Autónoma da Madeira
BEGIN:VTIMEZONE
TZID:Atlantic/Madeira
BEGIN:DAYLIGHT
TZOFFSETFROM:+0000
TZOFFSETTO:+0100
TZNAME:WEST
DTSTART:20170326T010000
END:DAYLIGHT
BEGIN:STANDARD
TZOFFSETFROM:+0100
TZOFFSETTO:+0000
TZNAME:WET
DTSTART:20171029T010000
END:STANDARD
END:VTIMEZONE
BEGIN:VEVENT
DTSTART;TZID=Atlantic/Madeira:20170322T160000
DTEND;TZID=Atlantic/Madeira:20170322T190000
DTSTAMP:20260421T134347
CREATED:20161109T180137Z
LAST-MODIFIED:20170322T194252Z
UID:3319-1490198400-1490209200@atletismodamadeira.pt
SUMMARY:Quilómetro Jovem
DESCRIPTION:Local: Câmara de Lobos \nOrganização: AARAM / DSDE \nÂmbito: Regional \nObservações: Taça de Infantis / Taça de Iniciados / Taça Jovem
URL:http://atletismodamadeira.pt/event/quilometro-jovem/
LOCATION:Câmara de Lobos\, Câmara de Lobos\, 9300\, Portugal
CATEGORIES:Pista,Pista / Escolar
END:VEVENT
END:VCALENDAR