BEGIN:VCALENDAR
VERSION:2.0
PRODID:-//Associação de Atletismo da Região Autónoma da Madeira - ECPv5.1.6//NONSGML v1.0//EN
CALSCALE:GREGORIAN
METHOD:PUBLISH
X-WR-CALNAME:Associação de Atletismo da Região Autónoma da Madeira
X-ORIGINAL-URL:http://atletismodamadeira.pt
X-WR-CALDESC:Events for Associação de Atletismo da Região Autónoma da Madeira
BEGIN:VTIMEZONE
TZID:Atlantic/Madeira
BEGIN:DAYLIGHT
TZOFFSETFROM:+0000
TZOFFSETTO:+0100
TZNAME:WEST
DTSTART:20180325T010000
END:DAYLIGHT
BEGIN:STANDARD
TZOFFSETFROM:+0100
TZOFFSETTO:+0000
TZNAME:WET
DTSTART:20181028T010000
END:STANDARD
END:VTIMEZONE
BEGIN:VEVENT
DTSTART;VALUE=DATE:20180414
DTEND;VALUE=DATE:20180415
DTSTAMP:20260420T185709
CREATED:20180205T183900Z
LAST-MODIFIED:20180414T213449Z
UID:8658-1523664000-1523750399@atletismodamadeira.pt
SUMMARY:Taça Fun'Athletics - 5º Encontro
DESCRIPTION:Âmbito: Regional \nOrganização: CSM / AARAM \nObservações: Taça Fun’Athletics / Desporto Escolar \n  \n \n \n 
URL:http://atletismodamadeira.pt/event/taca-funathletics-5o-encontro/
CATEGORIES:Pista,Pista / Escolar,Taça Fun'Athletics
END:VEVENT
END:VCALENDAR