BEGIN:VCALENDAR
VERSION:2.0
PRODID:-//Associação de Atletismo da Região Autónoma da Madeira - ECPv5.1.6//NONSGML v1.0//EN
CALSCALE:GREGORIAN
METHOD:PUBLISH
X-WR-CALNAME:Associação de Atletismo da Região Autónoma da Madeira
X-ORIGINAL-URL:http://atletismodamadeira.pt
X-WR-CALDESC:Events for Associação de Atletismo da Região Autónoma da Madeira
BEGIN:VTIMEZONE
TZID:UTC
BEGIN:STANDARD
TZOFFSETFROM:+0000
TZOFFSETTO:+0000
TZNAME:UTC
DTSTART:20150101T000000
END:STANDARD
END:VTIMEZONE
BEGIN:VEVENT
DTSTART;VALUE=DATE:20151205
DTEND;VALUE=DATE:20151206
DTSTAMP:20260422T121912
CREATED:20160103T160738Z
LAST-MODIFIED:20160217T111237Z
UID:423-1449273600-1449359999@atletismodamadeira.pt
SUMMARY:Torneio de Provas Múltiplas
DESCRIPTION:Regulamento: P03_Torneio_P_Multiplas \nÂmbito: Regional \nOrganização: AARAM \nResultados: 1690005 Torneio Provas Multiplas
URL:http://atletismodamadeira.pt/event/torneio-de-provas-multiplas/
LOCATION:Ribeira Brava (CDM)\, Sítio da Fajã da Ribeira (7\,95 km)\, Ribeira Brava\, Madeira\, 9350-147\, Portugal
CATEGORIES:Pista
END:VEVENT
END:VCALENDAR