BEGIN:VCALENDAR
VERSION:2.0
PRODID:-//Associação de Atletismo da Região Autónoma da Madeira - ECPv5.1.6//NONSGML v1.0//EN
CALSCALE:GREGORIAN
METHOD:PUBLISH
X-WR-CALNAME:Associação de Atletismo da Região Autónoma da Madeira
X-ORIGINAL-URL:http://atletismodamadeira.pt
X-WR-CALDESC:Events for Associação de Atletismo da Região Autónoma da Madeira
BEGIN:VTIMEZONE
TZID:Atlantic/Madeira
BEGIN:DAYLIGHT
TZOFFSETFROM:+0000
TZOFFSETTO:+0100
TZNAME:WEST
DTSTART:20170326T010000
END:DAYLIGHT
BEGIN:STANDARD
TZOFFSETFROM:+0100
TZOFFSETTO:+0000
TZNAME:WET
DTSTART:20171029T010000
END:STANDARD
END:VTIMEZONE
BEGIN:VEVENT
DTSTART;TZID=Atlantic/Madeira:20170329T140000
DTEND;TZID=Atlantic/Madeira:20170329T170000
DTSTAMP:20260421T121433
CREATED:20161109T181453Z
LAST-MODIFIED:20170329T183802Z
UID:3327-1490796000-1490806800@atletismodamadeira.pt
SUMMARY:Torneio MegaSprint
DESCRIPTION:Local: Câmara de Lobos \nOrganização: AARAM / DSDE \nÂmbito: Regional \n 
URL:http://atletismodamadeira.pt/event/torneio-megasprint-3/
LOCATION:Câmara de Lobos\, Câmara de Lobos\, 9300\, Portugal
CATEGORIES:Escolar,Pista / Escolar,Regional
END:VEVENT
END:VCALENDAR