BEGIN:VCALENDAR
VERSION:2.0
PRODID:-//Associação de Atletismo da Região Autónoma da Madeira - ECPv5.1.6//NONSGML v1.0//EN
CALSCALE:GREGORIAN
METHOD:PUBLISH
X-WR-CALNAME:Associação de Atletismo da Região Autónoma da Madeira
X-ORIGINAL-URL:http://atletismodamadeira.pt
X-WR-CALDESC:Events for Associação de Atletismo da Região Autónoma da Madeira
BEGIN:VTIMEZONE
TZID:UTC
BEGIN:STANDARD
TZOFFSETFROM:+0000
TZOFFSETTO:+0000
TZNAME:UTC
DTSTART:20150101T000000
END:STANDARD
END:VTIMEZONE
BEGIN:VEVENT
DTSTART;VALUE=DATE:20151206
DTEND;VALUE=DATE:20151207
DTSTAMP:20260422T104713
CREATED:20160103T160738Z
LAST-MODIFIED:20160217T111335Z
UID:424-1449360000-1449446399@atletismodamadeira.pt
SUMMARY:Trail da Calheta
DESCRIPTION:Âmbito: Regional \nOrganização: CMOF \nObservações: Madeira Trail \nResultados: 02_Trail_Calheta_AARAM_results_TODOS
URL:http://atletismodamadeira.pt/event/trail-da-calheta/
LOCATION:Calheta\, Portugal
CATEGORIES:Trail
END:VEVENT
END:VCALENDAR