BEGIN:VCALENDAR
VERSION:2.0
PRODID:-//Associação de Atletismo da Região Autónoma da Madeira - ECPv5.1.6//NONSGML v1.0//EN
CALSCALE:GREGORIAN
METHOD:PUBLISH
X-WR-CALNAME:Associação de Atletismo da Região Autónoma da Madeira
X-ORIGINAL-URL:http://atletismodamadeira.pt
X-WR-CALDESC:Events for Associação de Atletismo da Região Autónoma da Madeira
BEGIN:VTIMEZONE
TZID:UTC
BEGIN:STANDARD
TZOFFSETFROM:+0000
TZOFFSETTO:+0000
TZNAME:UTC
DTSTART:20150101T000000
END:STANDARD
END:VTIMEZONE
BEGIN:VEVENT
DTSTART;VALUE=DATE:20151212
DTEND;VALUE=DATE:20151213
DTSTAMP:20260424T051132
CREATED:20160103T160738Z
LAST-MODIFIED:20160217T111852Z
UID:426-1449878400-1449964799@atletismodamadeira.pt
SUMMARY:Trail Noturno do Caniçal
DESCRIPTION:Âmbito: Regional \nOrganização: LCM \nObservações: Madeira Trail \nResultados: 03_Trail_NoturnoCanical_AARAM_results
URL:http://atletismodamadeira.pt/event/trail-noturno-do-canical/
LOCATION:Caniçal\, Portugal
CATEGORIES:Trail
END:VEVENT
BEGIN:VEVENT
DTSTART;VALUE=DATE:20151212
DTEND;VALUE=DATE:20151214
DTSTAMP:20260424T051132
CREATED:20160103T160738Z
LAST-MODIFIED:20160217T112201Z
UID:427-1449878400-1450051199@atletismodamadeira.pt
SUMMARY:Campeonato Regional de PROVAS COMBINADAS de Inverno
DESCRIPTION:Regulamento: P04_C_Reg_P_Comb_Inverno \nÂmbito: Regional \nOrganização: AARAM \nObservações: Taça Madeira / Taça Jovem \nResultados: 1690007 CR_PCombinadas_inverno
URL:http://atletismodamadeira.pt/event/campeonato-regional-de-provas-combinadas-de-inverno/
LOCATION:Machico-R.Brava\, Portugal
CATEGORIES:Pista
END:VEVENT
END:VCALENDAR