BEGIN:VCALENDAR
VERSION:2.0
PRODID:-//Associação de Atletismo da Região Autónoma da Madeira - ECPv5.1.6//NONSGML v1.0//EN
CALSCALE:GREGORIAN
METHOD:PUBLISH
X-WR-CALNAME:Associação de Atletismo da Região Autónoma da Madeira
X-ORIGINAL-URL:http://atletismodamadeira.pt
X-WR-CALDESC:Events for Associação de Atletismo da Região Autónoma da Madeira
BEGIN:VTIMEZONE
TZID:UTC
BEGIN:STANDARD
TZOFFSETFROM:+0000
TZOFFSETTO:+0000
TZNAME:UTC
DTSTART:20150101T000000
END:STANDARD
END:VTIMEZONE
BEGIN:VEVENT
DTSTART;VALUE=DATE:20151228
DTEND;VALUE=DATE:20151229
DTSTAMP:20260424T035118
CREATED:20160103T160739Z
LAST-MODIFIED:20160217T112528Z
UID:432-1451260800-1451347199@atletismodamadeira.pt
SUMMARY:Volta à Cidade do Funchal
DESCRIPTION:Regulamento: http://www.atletismomadeira.pt/Web_VoltaCidade/index.html \nÂmbito: Internacional \nOrganização: AARAM \nResultados: VoltaCidade2015-resultados_TUDO \nResultados Jovem: 1690012 Volta a Cidade do Funchal_Jovem
URL:http://atletismodamadeira.pt/event/volta-a-cidade-do-funchal/
LOCATION:Funchal\, Funchal\, Madeira\, Portugal
CATEGORIES:Estrada
END:VEVENT
END:VCALENDAR