BEGIN:VCALENDAR
VERSION:2.0
PRODID:-//Associação de Atletismo da Região Autónoma da Madeira - ECPv5.1.6//NONSGML v1.0//EN
CALSCALE:GREGORIAN
METHOD:PUBLISH
X-WR-CALNAME:Associação de Atletismo da Região Autónoma da Madeira
X-ORIGINAL-URL:http://atletismodamadeira.pt
X-WR-CALDESC:Events for Associação de Atletismo da Região Autónoma da Madeira
BEGIN:VTIMEZONE
TZID:UTC
BEGIN:STANDARD
TZOFFSETFROM:+0000
TZOFFSETTO:+0000
TZNAME:UTC
DTSTART:20160101T000000
END:STANDARD
END:VTIMEZONE
BEGIN:VEVENT
DTSTART;VALUE=DATE:20160206
DTEND;VALUE=DATE:20160207
DTSTAMP:20260424T022338
CREATED:20160103T160740Z
LAST-MODIFIED:20160217T164457Z
UID:441-1454716800-1454803199@atletismodamadeira.pt
SUMMARY:Campeonato Regional de Corta-Mato
DESCRIPTION:Regulamento: CM2016_Camp_Regional_Corta_Mato \nÂmbito: Regional \nOrganização: AARAM \nObservações: Madeira a Correr / Taça da Madeira / Taça Jovem \nResultados: 1690023 CR Corta-Mato
URL:http://atletismodamadeira.pt/event/campeonato-regional-de-corta-mato/
LOCATION:Santo da Serra – Chão das Aboboreiras\, Chão das Aboboreiras\, Santo António da Serra\, Madeira\, Portugal
CATEGORIES:Corta-Mato
END:VEVENT
BEGIN:VEVENT
DTSTART;VALUE=DATE:20160206
DTEND;VALUE=DATE:20160207
DTSTAMP:20260424T022338
CREATED:20160103T160740Z
LAST-MODIFIED:20160217T164339Z
UID:442-1454716800-1454803199@atletismodamadeira.pt
SUMMARY:Corta-Mato Jovem
DESCRIPTION:Regulamento: Corta Mato Jovem \nÂmbito: Regional \nOrganização: AARAM \nObservações: Taça Jovem / Taça Iniciados / Taça Infantis / Taça Benjamins \nResultados: 1690022 Corta Mato Jovem
URL:http://atletismodamadeira.pt/event/corta-mato-jovem/
LOCATION:Santo da Serra – Chão das Aboboreiras\, Chão das Aboboreiras\, Santo António da Serra\, Madeira\, Portugal
CATEGORIES:Corta-Mato
END:VEVENT
END:VCALENDAR