BEGIN:VCALENDAR
VERSION:2.0
PRODID:-//Associação de Atletismo da Região Autónoma da Madeira - ECPv5.1.6//NONSGML v1.0//EN
CALSCALE:GREGORIAN
METHOD:PUBLISH
X-WR-CALNAME:Associação de Atletismo da Região Autónoma da Madeira
X-ORIGINAL-URL:http://atletismodamadeira.pt
X-WR-CALDESC:Events for Associação de Atletismo da Região Autónoma da Madeira
BEGIN:VTIMEZONE
TZID:UTC
BEGIN:STANDARD
TZOFFSETFROM:+0000
TZOFFSETTO:+0000
TZNAME:UTC
DTSTART:20160101T000000
END:STANDARD
END:VTIMEZONE
BEGIN:VEVENT
DTSTART;TZID=UTC:20160220T100000
DTEND;TZID=UTC:20160220T123000
DTSTAMP:20260424T022336
CREATED:20160216T152734Z
LAST-MODIFIED:20160221T152843Z
UID:759-1455962400-1455971400@atletismodamadeira.pt
SUMMARY:Torneio de Lançamentos
DESCRIPTION:Regulamento: P09_Torneio_Lancamentos \nÂmbito: Regional \nOrganização: AARAM \nResultados
URL:http://atletismodamadeira.pt/event/torneio-de-lancamentos/
LOCATION:Funchal\, Funchal\, Madeira\, Portugal
CATEGORIES:Pista
END:VEVENT
END:VCALENDAR