BEGIN:VCALENDAR
VERSION:2.0
PRODID:-//Associação de Atletismo da Região Autónoma da Madeira - ECPv5.1.6//NONSGML v1.0//EN
CALSCALE:GREGORIAN
METHOD:PUBLISH
X-WR-CALNAME:Associação de Atletismo da Região Autónoma da Madeira
X-ORIGINAL-URL:http://atletismodamadeira.pt
X-WR-CALDESC:Events for Associação de Atletismo da Região Autónoma da Madeira
BEGIN:VTIMEZONE
TZID:UTC
BEGIN:STANDARD
TZOFFSETFROM:+0000
TZOFFSETTO:+0000
TZNAME:UTC
DTSTART:20160101T000000
END:STANDARD
END:VTIMEZONE
BEGIN:VEVENT
DTSTART;TZID=UTC:20160312T094500
DTEND;TZID=UTC:20160312T121500
DTSTAMP:20260424T010731
CREATED:20160103T160740Z
LAST-MODIFIED:20160319T090738Z
UID:449-1457775900-1457784900@atletismodamadeira.pt
SUMMARY:Encontro de Benjamins - Fun'Athletics
DESCRIPTION:Âmbito: Regional \nOrganização: ACDSJ/AARAM \nObservações: Taça Benjamins \nREGULAMENTO \nRESULTADOS \n 
URL:http://atletismodamadeira.pt/event/encontro-de-benjamins-funathletics-4/
LOCATION:Câmara de Lobos\, Câmara de Lobos\, 9300\, Portugal
CATEGORIES:Pista / Escolar
END:VEVENT
END:VCALENDAR