BEGIN:VCALENDAR
VERSION:2.0
PRODID:-//Associação de Atletismo da Região Autónoma da Madeira - ECPv5.1.6//NONSGML v1.0//EN
CALSCALE:GREGORIAN
METHOD:PUBLISH
X-WR-CALNAME:Associação de Atletismo da Região Autónoma da Madeira
X-ORIGINAL-URL:http://atletismodamadeira.pt
X-WR-CALDESC:Events for Associação de Atletismo da Região Autónoma da Madeira
BEGIN:VTIMEZONE
TZID:UTC
BEGIN:STANDARD
TZOFFSETFROM:+0000
TZOFFSETTO:+0000
TZNAME:UTC
DTSTART:20160101T000000
END:STANDARD
END:VTIMEZONE
BEGIN:VEVENT
DTSTART;VALUE=DATE:20160604
DTEND;VALUE=DATE:20160606
DTSTAMP:20260423T210352
CREATED:20160103T160742Z
LAST-MODIFIED:20160605T173259Z
UID:476-1464998400-1465171199@atletismodamadeira.pt
SUMMARY:Campeonato Regional de JUVENIS
DESCRIPTION:Âmbito: Regional \nOrganização: AARAM \nObservações: Taça Jovem \n  \nver PROGRAMA (rectificado)
URL:http://atletismodamadeira.pt/event/campeonato-regional-de-juvenis/
LOCATION:Ribeira Brava (CDM)\, Sítio da Fajã da Ribeira (7\,95 km)\, Ribeira Brava\, Madeira\, 9350-147\, Portugal
CATEGORIES:Pista,Regional
END:VEVENT
BEGIN:VEVENT
DTSTART;TZID=UTC:20160605T100000
DTEND;TZID=UTC:20160605T111500
DTSTAMP:20260423T210352
CREATED:20160103T160742Z
LAST-MODIFIED:20160603T182049Z
UID:477-1465120800-1465125300@atletismodamadeira.pt
SUMMARY:Circuito da Rota dos Dragoeiros
DESCRIPTION:Âmbito: Regional \nOrganização: JFSG/AARAM \nObservações: Madeira a Correr \nver REGULAMENTO
URL:http://atletismodamadeira.pt/event/circuito-da-rota-dos-dragoeiros/
LOCATION:Funchal\, Funchal\, Madeira\, Portugal
CATEGORIES:Estrada
END:VEVENT
END:VCALENDAR