BEGIN:VCALENDAR
VERSION:2.0
PRODID:-//Associação de Atletismo da Região Autónoma da Madeira - ECPv5.1.6//NONSGML v1.0//EN
CALSCALE:GREGORIAN
METHOD:PUBLISH
X-WR-CALNAME:Associação de Atletismo da Região Autónoma da Madeira
X-ORIGINAL-URL:http://atletismodamadeira.pt
X-WR-CALDESC:Events for Associação de Atletismo da Região Autónoma da Madeira
BEGIN:VTIMEZONE
TZID:UTC
BEGIN:STANDARD
TZOFFSETFROM:+0000
TZOFFSETTO:+0000
TZNAME:UTC
DTSTART:20160101T000000
END:STANDARD
END:VTIMEZONE
BEGIN:VEVENT
DTSTART;TZID=UTC:20160717T100000
DTEND;TZID=UTC:20160717T110000
DTSTAMP:20260423T194649
CREATED:20160103T160744Z
LAST-MODIFIED:20160704T112536Z
UID:488-1468749600-1468753200@atletismodamadeira.pt
SUMMARY:Circuito dos Horários do Funchal
DESCRIPTION:Âmbito: Regional \nOrganização: CCDTHF/AARAM \nObservações: Madeira a Correr \nver REGULAMENTO
URL:http://atletismodamadeira.pt/event/circuito-dos-horarios-do-funchal/
LOCATION:Funchal\, Funchal\, Madeira\, Portugal
CATEGORIES:Estrada
END:VEVENT
END:VCALENDAR