BEGIN:VCALENDAR
VERSION:2.0
PRODID:-//Associação de Atletismo da Região Autónoma da Madeira - ECPv5.1.6//NONSGML v1.0//EN
CALSCALE:GREGORIAN
METHOD:PUBLISH
X-WR-CALNAME:Associação de Atletismo da Região Autónoma da Madeira
X-ORIGINAL-URL:http://atletismodamadeira.pt
X-WR-CALDESC:Events for Associação de Atletismo da Região Autónoma da Madeira
BEGIN:VTIMEZONE
TZID:UTC
BEGIN:STANDARD
TZOFFSETFROM:+0000
TZOFFSETTO:+0000
TZNAME:UTC
DTSTART:20160101T000000
END:STANDARD
END:VTIMEZONE
BEGIN:VEVENT
DTSTART;TZID=UTC:20160730T193000
DTEND;TZID=UTC:20160730T203000
DTSTAMP:20260423T195040
CREATED:20160103T160744Z
LAST-MODIFIED:20160713T150909Z
UID:490-1469907000-1469910600@atletismodamadeira.pt
SUMMARY:Run the Time of Your Life
DESCRIPTION:Âmbito: Regional \nOrganização: GP/AARAM \nObservações: Madeira a Correr \nver REGULAMENTO
URL:http://atletismodamadeira.pt/event/run-the-time-of-your-life/
LOCATION:Funchal\, Funchal\, Madeira\, Portugal
CATEGORIES:Estrada
END:VEVENT
END:VCALENDAR