BEGIN:VCALENDAR
VERSION:2.0
PRODID:-//Associação de Atletismo da Região Autónoma da Madeira - ECPv5.1.6//NONSGML v1.0//EN
CALSCALE:GREGORIAN
METHOD:PUBLISH
X-WR-CALNAME:Associação de Atletismo da Região Autónoma da Madeira
X-ORIGINAL-URL:http://atletismodamadeira.pt
X-WR-CALDESC:Events for Associação de Atletismo da Região Autónoma da Madeira
BEGIN:VTIMEZONE
TZID:UTC
BEGIN:STANDARD
TZOFFSETFROM:+0000
TZOFFSETTO:+0000
TZNAME:UTC
DTSTART:20160101T000000
END:STANDARD
END:VTIMEZONE
BEGIN:VEVENT
DTSTART;TZID=UTC:20160925T083000
DTEND;TZID=UTC:20160925T120000
DTSTAMP:20260423T171325
CREATED:20160103T160744Z
LAST-MODIFIED:20160920T191716Z
UID:498-1474792200-1474804800@atletismodamadeira.pt
SUMMARY:Madeira Uphill 2000
DESCRIPTION:Âmbito: Internacional \nOrganização: AARAM \nInformações: Disponível para download \n \nver REGULAMENTO \nver PERCURSO MEIA MARATONA \nver PERCURSO MINI MARATONA \n 
URL:http://atletismodamadeira.pt/event/madeira-uphill/
LOCATION:Funchal\, Funchal\, Madeira\, Portugal
CATEGORIES:Estrada
END:VEVENT
END:VCALENDAR