BEGIN:VCALENDAR
VERSION:2.0
PRODID:-//Associação de Atletismo da Região Autónoma da Madeira - ECPv5.1.6//NONSGML v1.0//EN
CALSCALE:GREGORIAN
METHOD:PUBLISH
X-WR-CALNAME:Associação de Atletismo da Região Autónoma da Madeira
X-ORIGINAL-URL:http://atletismodamadeira.pt
X-WR-CALDESC:Events for Associação de Atletismo da Região Autónoma da Madeira
BEGIN:VTIMEZONE
TZID:Atlantic/Madeira
BEGIN:DAYLIGHT
TZOFFSETFROM:+0000
TZOFFSETTO:+0100
TZNAME:WEST
DTSTART:20160327T010000
END:DAYLIGHT
BEGIN:STANDARD
TZOFFSETFROM:+0100
TZOFFSETTO:+0000
TZNAME:WET
DTSTART:20161030T010000
END:STANDARD
END:VTIMEZONE
BEGIN:VEVENT
DTSTART;TZID=Atlantic/Madeira:20161208T100000
DTEND;TZID=Atlantic/Madeira:20161208T123000
DTSTAMP:20260423T154447
CREATED:20161104T184717Z
LAST-MODIFIED:20161208T111153Z
UID:3173-1481191200-1481200200@atletismodamadeira.pt
SUMMARY:Circuito do Porto Moniz
DESCRIPTION:Local: Porto Moniz \nOrganização: CPPM / AARAM \nÂmbito: Regional \nObservações: Madeira a Correr \nInformação: \n10h00 – Partida Prova Principal\n11h30 – Homenagem à 1ª Seleção da Madeira em atletismo\, feita pelo Município do Porto Moniz – Restaurante “Mar à Vista” – Vila do Porto Moniz\n12h00 – Entrega de Prémios\n12h30 – Almoço Convívio\n \n\nNota: Estarão disponíveis os balneários das Piscinas do Porto Moniz após a prova (água fria).
URL:http://atletismodamadeira.pt/event/circuito-do-porto-moniz/
LOCATION:Porto Moniz\, Portugal
CATEGORIES:Estrada,Madeira a Correr,Regional
END:VEVENT
END:VCALENDAR