BEGIN:VCALENDAR
VERSION:2.0
PRODID:-//Associação de Atletismo da Região Autónoma da Madeira - ECPv5.1.6//NONSGML v1.0//EN
CALSCALE:GREGORIAN
METHOD:PUBLISH
X-WR-CALNAME:Associação de Atletismo da Região Autónoma da Madeira
X-ORIGINAL-URL:http://atletismodamadeira.pt
X-WR-CALDESC:Events for Associação de Atletismo da Região Autónoma da Madeira
BEGIN:VTIMEZONE
TZID:Atlantic/Madeira
BEGIN:DAYLIGHT
TZOFFSETFROM:+0000
TZOFFSETTO:+0100
TZNAME:WEST
DTSTART:20170326T010000
END:DAYLIGHT
BEGIN:STANDARD
TZOFFSETFROM:+0100
TZOFFSETTO:+0000
TZNAME:WET
DTSTART:20171029T010000
END:STANDARD
END:VTIMEZONE
BEGIN:VEVENT
DTSTART;VALUE=DATE:20170113
DTEND;VALUE=DATE:20170116
DTSTAMP:20260423T171157
CREATED:20161104T192955Z
LAST-MODIFIED:20170116T003525Z
UID:3199-1484265600-1484524799@atletismodamadeira.pt
SUMMARY:Camp. Regional Jovem de inverno I (Juv/Jun)
DESCRIPTION:Local: Ribeira Brava e Funchal \nOrganização: AARAM \nÂmbito: Regional \nObservações: Taça Jovem
URL:http://atletismodamadeira.pt/event/camp-regional-jovem-de-inverno-i-juvjun/
LOCATION:Funchal (RG3) e Ribeira Brava (CDM)\, Sítio da Fajã da Ribeira\, Ribeira Brava\, 9350
CATEGORIES:Pista,Regional
END:VEVENT
END:VCALENDAR