BEGIN:VCALENDAR
VERSION:2.0
PRODID:-//Associação de Atletismo da Região Autónoma da Madeira - ECPv5.1.6//NONSGML v1.0//EN
CALSCALE:GREGORIAN
METHOD:PUBLISH
X-WR-CALNAME:Associação de Atletismo da Região Autónoma da Madeira
X-ORIGINAL-URL:http://atletismodamadeira.pt
X-WR-CALDESC:Events for Associação de Atletismo da Região Autónoma da Madeira
BEGIN:VTIMEZONE
TZID:Atlantic/Madeira
BEGIN:DAYLIGHT
TZOFFSETFROM:+0000
TZOFFSETTO:+0100
TZNAME:WEST
DTSTART:20170326T010000
END:DAYLIGHT
BEGIN:STANDARD
TZOFFSETFROM:+0100
TZOFFSETTO:+0000
TZNAME:WET
DTSTART:20171029T010000
END:STANDARD
END:VTIMEZONE
BEGIN:VEVENT
DTSTART;TZID=Atlantic/Madeira:20170211T093000
DTEND;TZID=Atlantic/Madeira:20170211T123000
DTSTAMP:20260423T183020
CREATED:20161109T171358Z
LAST-MODIFIED:20170211T124111Z
UID:3282-1486805400-1486816200@atletismodamadeira.pt
SUMMARY:4º Encontro Fun'Athletics
DESCRIPTION:Local: Funchal (Escola Horácio Bento Gouveia) \nOrganização: Escola Horácio Bento Gouveia / AARAM \nÂmbito: Regional \nObservações: Em parceria com a Direção de Serviços do Desporto Escolar (DSDE) \n \n \n 
URL:http://atletismodamadeira.pt/event/encontro-de-benjamins-funathletics-6/
LOCATION:Funchal (EHBG)\, Portugal
CATEGORIES:Pista / Escolar,Regional,Taça Fun'Athletics
END:VEVENT
END:VCALENDAR