BEGIN:VCALENDAR
VERSION:2.0
PRODID:-//Associação de Atletismo da Região Autónoma da Madeira - ECPv5.1.6//NONSGML v1.0//EN
CALSCALE:GREGORIAN
METHOD:PUBLISH
X-WR-CALNAME:Associação de Atletismo da Região Autónoma da Madeira
X-ORIGINAL-URL:http://atletismodamadeira.pt
X-WR-CALDESC:Events for Associação de Atletismo da Região Autónoma da Madeira
BEGIN:VTIMEZONE
TZID:Atlantic/Madeira
BEGIN:DAYLIGHT
TZOFFSETFROM:+0000
TZOFFSETTO:+0100
TZNAME:WEST
DTSTART:20170326T010000
END:DAYLIGHT
BEGIN:STANDARD
TZOFFSETFROM:+0100
TZOFFSETTO:+0000
TZNAME:WET
DTSTART:20171029T010000
END:STANDARD
END:VTIMEZONE
BEGIN:VEVENT
DTSTART;TZID=Atlantic/Madeira:20170212T090000
DTEND;TZID=Atlantic/Madeira:20170212T130000
DTSTAMP:20260423T184515
CREATED:20161109T164123Z
LAST-MODIFIED:20170212T144109Z
UID:3276-1486890000-1486904400@atletismodamadeira.pt
SUMMARY:Campeonato Regional de Corta-Mato
DESCRIPTION:Local: Santo da Serra (Chão das Aboboreiras) \nOrganização: AARAM \nÂmbito: Regional \nObservações: Madeira a Correr / Taça da Madeira / Taça Jovem
URL:http://atletismodamadeira.pt/event/campeonato-regional-de-corta-mato-2/
LOCATION:Santo da Serra – Chão das Aboboreiras\, Chão das Aboboreiras\, Santo António da Serra\, Madeira\, Portugal
CATEGORIES:Corta-Mato,Madeira a Correr,Regional,Taça da Madeira
END:VEVENT
END:VCALENDAR