BEGIN:VCALENDAR
VERSION:2.0
PRODID:-//Associação de Atletismo da Região Autónoma da Madeira - ECPv5.1.6//NONSGML v1.0//EN
CALSCALE:GREGORIAN
METHOD:PUBLISH
X-WR-CALNAME:Associação de Atletismo da Região Autónoma da Madeira
X-ORIGINAL-URL:http://atletismodamadeira.pt
X-WR-CALDESC:Events for Associação de Atletismo da Região Autónoma da Madeira
BEGIN:VTIMEZONE
TZID:Atlantic/Madeira
BEGIN:DAYLIGHT
TZOFFSETFROM:+0000
TZOFFSETTO:+0100
TZNAME:WEST
DTSTART:20170326T010000
END:DAYLIGHT
BEGIN:STANDARD
TZOFFSETFROM:+0100
TZOFFSETTO:+0000
TZNAME:WET
DTSTART:20171029T010000
END:STANDARD
END:VTIMEZONE
BEGIN:VEVENT
DTSTART;TZID=Atlantic/Madeira:20170226T100000
DTEND;TZID=Atlantic/Madeira:20170226T110000
DTSTAMP:20260423T183019
CREATED:20161109T172518Z
LAST-MODIFIED:20170309T135954Z
UID:3291-1488103200-1488106800@atletismodamadeira.pt
SUMMARY:Estafeta Câmara de Lobos - Funchal
DESCRIPTION:Local: Câmara de Lobos – Funchal \nOrganização: AARAM \nÂmbito: Regional \nObservações: Madeira a Correr (coletiva)
URL:http://atletismodamadeira.pt/event/estafeta-camara-de-lobos-funchal-2/
LOCATION:C. Lobos – Funchal\, Portugal
CATEGORIES:Estrada,Madeira a Correr,Regional
END:VEVENT
END:VCALENDAR