BEGIN:VCALENDAR
VERSION:2.0
PRODID:-//Associação de Atletismo da Região Autónoma da Madeira - ECPv5.1.6//NONSGML v1.0//EN
CALSCALE:GREGORIAN
METHOD:PUBLISH
X-WR-CALNAME:Associação de Atletismo da Região Autónoma da Madeira
X-ORIGINAL-URL:http://atletismodamadeira.pt
X-WR-CALDESC:Events for Associação de Atletismo da Região Autónoma da Madeira
BEGIN:VTIMEZONE
TZID:Atlantic/Madeira
BEGIN:DAYLIGHT
TZOFFSETFROM:+0000
TZOFFSETTO:+0100
TZNAME:WEST
DTSTART:20170326T010000
END:DAYLIGHT
BEGIN:STANDARD
TZOFFSETFROM:+0100
TZOFFSETTO:+0000
TZNAME:WET
DTSTART:20171029T010000
END:STANDARD
END:VTIMEZONE
BEGIN:VEVENT
DTSTART;TZID=Atlantic/Madeira:20170604T090000
DTEND;TZID=Atlantic/Madeira:20170604T120000
DTSTAMP:20260423T221137
CREATED:20161109T180457Z
LAST-MODIFIED:20170604T115311Z
UID:3321-1496566800-1496577600@atletismodamadeira.pt
SUMMARY:Meia-Maratona ATLÂNTIDA
DESCRIPTION:Local: Funchal \nOrganização: AARAM \nÂmbito: Regional \nObservações: Madeira a Correr \nSecretariado\nO secretariado da prova funcionará na sede da AARAM em Câmara de Lobos\, no seguinte horário: \n\nQuinta-Feira (1 Junho) – das 15:00 às 19:00;\nSexta-Feira (2 Junho) – das 10:00 às 12:00\, reabre às 13h00 até às 19h00.\n\n \n \n \n \n \n  \n \n \n 
URL:http://atletismodamadeira.pt/event/meia-maratona-atlantida/
LOCATION:Funchal\, Funchal\, Madeira\, Portugal
CATEGORIES:Estrada,Madeira a Correr,Regional
END:VEVENT
END:VCALENDAR