BEGIN:VCALENDAR
VERSION:2.0
PRODID:-//Associação de Atletismo da Região Autónoma da Madeira - ECPv5.1.6//NONSGML v1.0//EN
CALSCALE:GREGORIAN
METHOD:PUBLISH
X-WR-CALNAME:Associação de Atletismo da Região Autónoma da Madeira
X-ORIGINAL-URL:http://atletismodamadeira.pt
X-WR-CALDESC:Events for Associação de Atletismo da Região Autónoma da Madeira
BEGIN:VTIMEZONE
TZID:Atlantic/Madeira
BEGIN:DAYLIGHT
TZOFFSETFROM:+0000
TZOFFSETTO:+0100
TZNAME:WEST
DTSTART:20170326T010000
END:DAYLIGHT
BEGIN:STANDARD
TZOFFSETFROM:+0100
TZOFFSETTO:+0000
TZNAME:WET
DTSTART:20171029T010000
END:STANDARD
END:VTIMEZONE
BEGIN:VEVENT
DTSTART;TZID=Atlantic/Madeira:20170606T190000
DTEND;TZID=Atlantic/Madeira:20170606T203000
DTSTAMP:20260423T234028
CREATED:20170531T184119Z
LAST-MODIFIED:20170607T101618Z
UID:5629-1496775600-1496781000@atletismodamadeira.pt
SUMMARY:Provas de Martelo
DESCRIPTION:Local: Funchal (RG3) \nOrganização: AARAM \nÂmbito: Regional \nObservações: Prova com mínimos de acesso
URL:http://atletismodamadeira.pt/event/provas-de-martelo/
LOCATION:Funchal (RG3)
CATEGORIES:Pista,Regional
END:VEVENT
END:VCALENDAR