BEGIN:VCALENDAR
VERSION:2.0
PRODID:-//Associação de Atletismo da Região Autónoma da Madeira - ECPv5.1.6//NONSGML v1.0//EN
CALSCALE:GREGORIAN
METHOD:PUBLISH
X-WR-CALNAME:Associação de Atletismo da Região Autónoma da Madeira
X-ORIGINAL-URL:http://atletismodamadeira.pt
X-WR-CALDESC:Events for Associação de Atletismo da Região Autónoma da Madeira
BEGIN:VTIMEZONE
TZID:Atlantic/Madeira
BEGIN:DAYLIGHT
TZOFFSETFROM:+0000
TZOFFSETTO:+0100
TZNAME:WEST
DTSTART:20170326T010000
END:DAYLIGHT
BEGIN:STANDARD
TZOFFSETFROM:+0100
TZOFFSETTO:+0000
TZNAME:WET
DTSTART:20171029T010000
END:STANDARD
END:VTIMEZONE
BEGIN:VEVENT
DTSTART;TZID=Atlantic/Madeira:20170610T100000
DTEND;TZID=Atlantic/Madeira:20170611T123000
DTSTAMP:20260423T234932
CREATED:20170105T163352Z
LAST-MODIFIED:20170612T165309Z
UID:3957-1497088800-1497184200@atletismodamadeira.pt
SUMMARY:Campeonato Regional de Iniciados
DESCRIPTION:Local: Ribeira Brava e Funchal \nOrganização: AARAM \nÂmbito: Regional \nObservações: Taça Iniciados \n \n \n \n 
URL:http://atletismodamadeira.pt/event/campeonato-regional-de-iniciados-2/
LOCATION:Funchal (RG3) e Ribeira Brava (CDM)\, Sítio da Fajã da Ribeira\, Ribeira Brava\, 9350
CATEGORIES:Pista,Regional
END:VEVENT
BEGIN:VEVENT
DTSTART;TZID=Atlantic/Madeira:20170611T093000
DTEND;TZID=Atlantic/Madeira:20170611T123000
DTSTAMP:20260423T234932
CREATED:20170105T163142Z
LAST-MODIFIED:20170611T133534Z
UID:3953-1497173400-1497184200@atletismodamadeira.pt
SUMMARY:Ribeira de Machico - Portela / Serra das Funduras
DESCRIPTION:Local: Santo António da Serra \nOrganização: JFSAS/AARAM \nÂmbito: Regional \nObservações: Prova de Montanha
URL:http://atletismodamadeira.pt/event/serra-das-funduras/
LOCATION:Serra das Funduras – Ribeira de Machico\, Fajã dos Rolos - Portela\, Portugal
CATEGORIES:Montanha,Regional
END:VEVENT
END:VCALENDAR