BEGIN:VCALENDAR
VERSION:2.0
PRODID:-//Associação de Atletismo da Região Autónoma da Madeira - ECPv5.1.6//NONSGML v1.0//EN
CALSCALE:GREGORIAN
METHOD:PUBLISH
X-WR-CALNAME:Associação de Atletismo da Região Autónoma da Madeira
X-ORIGINAL-URL:http://atletismodamadeira.pt
X-WR-CALDESC:Events for Associação de Atletismo da Região Autónoma da Madeira
BEGIN:VTIMEZONE
TZID:Atlantic/Madeira
BEGIN:DAYLIGHT
TZOFFSETFROM:+0000
TZOFFSETTO:+0100
TZNAME:WEST
DTSTART:20170326T010000
END:DAYLIGHT
BEGIN:STANDARD
TZOFFSETFROM:+0100
TZOFFSETTO:+0000
TZNAME:WET
DTSTART:20171029T010000
END:STANDARD
END:VTIMEZONE
BEGIN:VEVENT
DTSTART;VALUE=DATE:20170623
DTEND;VALUE=DATE:20170624
DTSTAMP:20260424T010106
CREATED:20170621T150735Z
LAST-MODIFIED:20170621T150735Z
UID:5886-1498176000-1498262399@atletismodamadeira.pt
SUMMARY:Dia Olímpico
DESCRIPTION:Local: Funchal (Praça do Povo) \nOrganização: DRJD/AARAM \nÂmbito: Regional \nObservações: Comemorações Nacionais do Dia Olímpico \nPrograma do Atletismo: \n\n9h30 – Estafeta do Dia Olímpico – com participação do atleta Dany Gonçalves em representação do atletismo\n10h00 – Atletismo simplificado para crianças dos 10 aos 13 anos\n\nExperimentação de corridas\, saltos e lançamentos com relação a alguns dos recordes olímpicos do atletismo:\n\nCorridas de velocidade\nCorridas de Barreiras\nSaltos\nLançamentos\n\n\n\n\n11h00 – Entrega de prémios\n11h10 – Experimentação / intercâmbio com outros desportos olímpicos\n12h00 – Final do programa da manhã\n\nPrograma Geral do Dia Olímpico \n  \nCARTAZ \n 
URL:http://atletismodamadeira.pt/event/dia-olimpico/
LOCATION:Funchal\, Funchal\, Madeira\, Portugal
END:VEVENT
BEGIN:VEVENT
DTSTART;TZID=Atlantic/Madeira:20170623T213000
DTEND;TZID=Atlantic/Madeira:20170623T223000
DTSTAMP:20260424T010106
CREATED:20170525T101646Z
LAST-MODIFIED:20170525T102309Z
UID:5511-1498253400-1498257000@atletismodamadeira.pt
SUMMARY:Machico Neon Color Run
DESCRIPTION:Âmbito: Regional \nOrganização: AARAM \nObservações: Vertente não competitiva \n 
URL:http://atletismodamadeira.pt/event/machico-neon-color-run/
LOCATION:Machico\, Portugal
CATEGORIES:Estrada,Regional
END:VEVENT
END:VCALENDAR