BEGIN:VCALENDAR
VERSION:2.0
PRODID:-//Associação de Atletismo da Região Autónoma da Madeira - ECPv5.1.6//NONSGML v1.0//EN
CALSCALE:GREGORIAN
METHOD:PUBLISH
X-WR-CALNAME:Associação de Atletismo da Região Autónoma da Madeira
X-ORIGINAL-URL:http://atletismodamadeira.pt
X-WR-CALDESC:Events for Associação de Atletismo da Região Autónoma da Madeira
BEGIN:VTIMEZONE
TZID:Atlantic/Madeira
BEGIN:DAYLIGHT
TZOFFSETFROM:+0000
TZOFFSETTO:+0100
TZNAME:WEST
DTSTART:20170326T010000
END:DAYLIGHT
BEGIN:STANDARD
TZOFFSETFROM:+0100
TZOFFSETTO:+0000
TZNAME:WET
DTSTART:20171029T010000
END:STANDARD
END:VTIMEZONE
BEGIN:VEVENT
DTSTART;TZID=Atlantic/Madeira:20170709T093000
DTEND;TZID=Atlantic/Madeira:20170709T110000
DTSTAMP:20260424T010606
CREATED:20170105T165248Z
LAST-MODIFIED:20170709T153755Z
UID:3976-1499592600-1499598000@atletismodamadeira.pt
SUMMARY:IV Santana - São Jorge
DESCRIPTION:Local: Santana – São Jorge \nOrganização: JFS/JFSJ/AARAM \nÂmbito: Regional \nObservações: Madeira a Correr \n \n \n \n 
URL:http://atletismodamadeira.pt/event/santana-sao-jorge-2/
LOCATION:Santana\, Portugal
CATEGORIES:Estrada,Madeira a Correr,Regional
END:VEVENT
END:VCALENDAR