BEGIN:VCALENDAR
VERSION:2.0
PRODID:-//Associação de Atletismo da Região Autónoma da Madeira - ECPv5.1.6//NONSGML v1.0//EN
CALSCALE:GREGORIAN
METHOD:PUBLISH
X-WR-CALNAME:Associação de Atletismo da Região Autónoma da Madeira
X-ORIGINAL-URL:http://atletismodamadeira.pt
X-WR-CALDESC:Events for Associação de Atletismo da Região Autónoma da Madeira
BEGIN:VTIMEZONE
TZID:Atlantic/Madeira
BEGIN:DAYLIGHT
TZOFFSETFROM:+0000
TZOFFSETTO:+0100
TZNAME:WEST
DTSTART:20170326T010000
END:DAYLIGHT
BEGIN:STANDARD
TZOFFSETFROM:+0100
TZOFFSETTO:+0000
TZNAME:WET
DTSTART:20171029T010000
END:STANDARD
END:VTIMEZONE
BEGIN:VEVENT
DTSTART;TZID=Atlantic/Madeira:20171020T193000
DTEND;TZID=Atlantic/Madeira:20171020T203000
DTSTAMP:20260424T070710
CREATED:20170105T172441Z
LAST-MODIFIED:20171013T101314Z
UID:4006-1508527800-1508531400@atletismodamadeira.pt
SUMMARY:Corrida das Mulheres
DESCRIPTION:Local: Funchal \nOrganização: AARAM \nÂmbito: Regional \nObservações: \nPostos de venda:\nAssociação de Atletismo da RAM\nSede do NRM da Liga Portuguesa Contra o Cancro\,\ne nas delegações de Machico\, Porto Santo e Ribeira Brava\nPingo Doce – Anadia\nGinásio Viva Fit – Loja Bioforma – Farmácia do Caniço \nE durante todo o dia de 20 de Outubro de 2017 no local da prova: junto à Sé da Funchal.
URL:http://atletismodamadeira.pt/event/corrida-das-mulheres-2/
LOCATION:Funchal\, Funchal\, Madeira\, Portugal
CATEGORIES:Estrada,Regional
END:VEVENT
END:VCALENDAR