BEGIN:VCALENDAR
VERSION:2.0
PRODID:-//Associação de Atletismo da Região Autónoma da Madeira - ECPv5.1.6//NONSGML v1.0//EN
CALSCALE:GREGORIAN
METHOD:PUBLISH
X-WR-CALNAME:Associação de Atletismo da Região Autónoma da Madeira
X-ORIGINAL-URL:http://atletismodamadeira.pt
X-WR-CALDESC:Events for Associação de Atletismo da Região Autónoma da Madeira
BEGIN:VTIMEZONE
TZID:Atlantic/Madeira
BEGIN:DAYLIGHT
TZOFFSETFROM:+0000
TZOFFSETTO:+0100
TZNAME:WEST
DTSTART:20170326T010000
END:DAYLIGHT
BEGIN:STANDARD
TZOFFSETFROM:+0100
TZOFFSETTO:+0000
TZNAME:WET
DTSTART:20171029T010000
END:STANDARD
END:VTIMEZONE
BEGIN:VEVENT
DTSTART;VALUE=DATE:20171118
DTEND;VALUE=DATE:20171119
DTSTAMP:20260424T062411
CREATED:20171013T135756Z
LAST-MODIFIED:20171118T130820Z
UID:7016-1510963200-1511049599@atletismodamadeira.pt
SUMMARY:Taça Fun’Athletics – 1º Encontro
DESCRIPTION:Âmbito: Regional \nOrganização: GDE / AARAM / DSDE \nObservações: Taça Fun’Athletics / Desporto Escolar \n \n \n 
URL:http://atletismodamadeira.pt/event/encontro-benjamins-funathletics/
CATEGORIES:Pista / Escolar,Regional,Taça Fun'Athletics
END:VEVENT
END:VCALENDAR