BEGIN:VCALENDAR
VERSION:2.0
PRODID:-//Associação de Atletismo da Região Autónoma da Madeira - ECPv5.1.6//NONSGML v1.0//EN
CALSCALE:GREGORIAN
METHOD:PUBLISH
X-WR-CALNAME:Associação de Atletismo da Região Autónoma da Madeira
X-ORIGINAL-URL:http://atletismodamadeira.pt
X-WR-CALDESC:Events for Associação de Atletismo da Região Autónoma da Madeira
BEGIN:VTIMEZONE
TZID:Atlantic/Madeira
BEGIN:DAYLIGHT
TZOFFSETFROM:+0000
TZOFFSETTO:+0100
TZNAME:WEST
DTSTART:20180325T010000
END:DAYLIGHT
BEGIN:STANDARD
TZOFFSETFROM:+0100
TZOFFSETTO:+0000
TZNAME:WET
DTSTART:20181028T010000
END:STANDARD
END:VTIMEZONE
BEGIN:VEVENT
DTSTART;TZID=Atlantic/Madeira:20180526T080000
DTEND;TZID=Atlantic/Madeira:20180526T170000
DTSTAMP:20260424T144311
CREATED:20180205T185901Z
LAST-MODIFIED:20180528T111518Z
UID:8685-1527321600-1527354000@atletismodamadeira.pt
SUMMARY:Olímpico Jovem Regional - 4ª jornada
DESCRIPTION:Local: Ribeira Brava e Funchal \nOrganização: AARAM \nÂmbito: Regional \nObservações: Taça Infantis / Taça Iniciados / Taça Jovem
URL:http://atletismodamadeira.pt/event/olimpico-jovem-regional-4a-jornada/
LOCATION:Funchal (RG3) e Ribeira Brava (CDM)\, Sítio da Fajã da Ribeira\, Ribeira Brava\, 9350
CATEGORIES:Pista,Regional
END:VEVENT
END:VCALENDAR