BEGIN:VCALENDAR
VERSION:2.0
PRODID:-//Associação de Atletismo da Região Autónoma da Madeira - ECPv5.1.6//NONSGML v1.0//EN
CALSCALE:GREGORIAN
METHOD:PUBLISH
X-WR-CALNAME:Associação de Atletismo da Região Autónoma da Madeira
X-ORIGINAL-URL:http://atletismodamadeira.pt
X-WR-CALDESC:Events for Associação de Atletismo da Região Autónoma da Madeira
BEGIN:VTIMEZONE
TZID:Atlantic/Madeira
BEGIN:DAYLIGHT
TZOFFSETFROM:+0000
TZOFFSETTO:+0100
TZNAME:WEST
DTSTART:20180325T010000
END:DAYLIGHT
BEGIN:STANDARD
TZOFFSETFROM:+0100
TZOFFSETTO:+0000
TZNAME:WET
DTSTART:20181028T010000
END:STANDARD
END:VTIMEZONE
BEGIN:VEVENT
DTSTART;VALUE=DATE:20180616
DTEND;VALUE=DATE:20180618
DTSTAMP:20260424T161131
CREATED:20180410T151606Z
LAST-MODIFIED:20180619T192003Z
UID:9828-1529107200-1529279999@atletismodamadeira.pt
SUMMARY:Camp. Nacional de Clubes - apuramento Madeira
DESCRIPTION:Local: Ribeira Brava e Funchal \nOrganização: FPA / AARAM \nÂmbito: Nacional \nObservações: Apuramento para finais do C. Nac. Clubes ( 1ª\, 2ª e 3ª divisões ) \n  \n \n \nResultados – Torneio de Preparação
URL:http://atletismodamadeira.pt/event/camp-nacional-de-clubes-apuramento-madeira/
CATEGORIES:Nacional,Pista
END:VEVENT
BEGIN:VEVENT
DTSTART;TZID=Atlantic/Madeira:20180617T080000
DTEND;TZID=Atlantic/Madeira:20180617T170000
DTSTAMP:20260424T161131
CREATED:20180205T192006Z
LAST-MODIFIED:20180617T090707Z
UID:8709-1529222400-1529254800@atletismodamadeira.pt
SUMMARY:Circuito do Imaculado Coração de Maria / Carvalheiro
DESCRIPTION:Local: Funchal \nOrganização: JFICM/CFC/AARAM \nÂmbito: Regional \nObservações: Madeira a Correr
URL:http://atletismodamadeira.pt/event/circuito-do-imaculado-coracao-maria-carvalheiro/
LOCATION:Funchal\, Funchal\, Madeira\, Portugal
CATEGORIES:Estrada,Madeira a Correr,Regional
END:VEVENT
END:VCALENDAR