BEGIN:VCALENDAR
VERSION:2.0
PRODID:-//Associação de Atletismo da Região Autónoma da Madeira - ECPv5.1.6//NONSGML v1.0//EN
CALSCALE:GREGORIAN
METHOD:PUBLISH
X-WR-CALNAME:Associação de Atletismo da Região Autónoma da Madeira
X-ORIGINAL-URL:http://atletismodamadeira.pt
X-WR-CALDESC:Events for Associação de Atletismo da Região Autónoma da Madeira
BEGIN:VTIMEZONE
TZID:Atlantic/Madeira
BEGIN:DAYLIGHT
TZOFFSETFROM:+0000
TZOFFSETTO:+0100
TZNAME:WEST
DTSTART:20180325T010000
END:DAYLIGHT
BEGIN:STANDARD
TZOFFSETFROM:+0100
TZOFFSETTO:+0000
TZNAME:WET
DTSTART:20181028T010000
END:STANDARD
END:VTIMEZONE
BEGIN:VEVENT
DTSTART;TZID=Atlantic/Madeira:20180622T213000
DTEND;TZID=Atlantic/Madeira:20180622T223000
DTSTAMP:20260424T161247
CREATED:20180514T093024Z
LAST-MODIFIED:20180620T113706Z
UID:10465-1529703000-1529706600@atletismodamadeira.pt
SUMMARY:II Corrida Neon Color Run
DESCRIPTION:Âmbito: Regional \nOrganização: AARAM \nObservações: Vertente não competitiva \nInformação: \n\nA organização não garante o tamanho exato da t-shirt a todos os participantes.\n\nSecretariado: \n\n22/06 – Sexta-feira – 14h00 às 17h00 na Câmara Municipal de Machico\nA partir das 18h00 secretariado em frente à partida;
URL:http://atletismodamadeira.pt/event/ii-corrida-neon-color-run/
LOCATION:Machico\, Portugal
CATEGORIES:Estrada,Regional
END:VEVENT
END:VCALENDAR