BEGIN:VCALENDAR
VERSION:2.0
PRODID:-//Associação de Atletismo da Região Autónoma da Madeira - ECPv5.1.6//NONSGML v1.0//EN
CALSCALE:GREGORIAN
METHOD:PUBLISH
X-WR-CALNAME:Associação de Atletismo da Região Autónoma da Madeira
X-ORIGINAL-URL:http://atletismodamadeira.pt
X-WR-CALDESC:Events for Associação de Atletismo da Região Autónoma da Madeira
BEGIN:VTIMEZONE
TZID:Atlantic/Madeira
BEGIN:DAYLIGHT
TZOFFSETFROM:+0000
TZOFFSETTO:+0100
TZNAME:WEST
DTSTART:20180325T010000
END:DAYLIGHT
BEGIN:STANDARD
TZOFFSETFROM:+0100
TZOFFSETTO:+0000
TZNAME:WET
DTSTART:20181028T010000
END:STANDARD
END:VTIMEZONE
BEGIN:VEVENT
DTSTART;TZID=Atlantic/Madeira:20180707T193000
DTEND;TZID=Atlantic/Madeira:20180707T210000
DTSTAMP:20260424T172212
CREATED:20180410T165106Z
LAST-MODIFIED:20180707T200644Z
UID:9838-1530991800-1530997200@atletismodamadeira.pt
SUMMARY:Torneio de Verão
DESCRIPTION:Local: Ribeira Brava \nOrganização: AARAM \nÂmbito: Regional \nObservações: Provas de preparação \n \n \n 
URL:http://atletismodamadeira.pt/event/torneio-de-verao-2/
CATEGORIES:Pista,Regional
END:VEVENT
END:VCALENDAR