BEGIN:VCALENDAR
VERSION:2.0
PRODID:-//Associação de Atletismo da Região Autónoma da Madeira - ECPv5.1.6//NONSGML v1.0//EN
CALSCALE:GREGORIAN
METHOD:PUBLISH
X-WR-CALNAME:Associação de Atletismo da Região Autónoma da Madeira
X-ORIGINAL-URL:http://atletismodamadeira.pt
X-WR-CALDESC:Events for Associação de Atletismo da Região Autónoma da Madeira
BEGIN:VTIMEZONE
TZID:Atlantic/Madeira
BEGIN:DAYLIGHT
TZOFFSETFROM:+0000
TZOFFSETTO:+0100
TZNAME:WEST
DTSTART:20180325T010000
END:DAYLIGHT
BEGIN:STANDARD
TZOFFSETFROM:+0100
TZOFFSETTO:+0000
TZNAME:WET
DTSTART:20181028T010000
END:STANDARD
END:VTIMEZONE
BEGIN:VEVENT
DTSTART;TZID=Atlantic/Madeira:20180812T090000
DTEND;TZID=Atlantic/Madeira:20180812T120000
DTSTAMP:20260424T190657
CREATED:20180509T124752Z
LAST-MODIFIED:20180829T093033Z
UID:10332-1534064400-1534075200@atletismodamadeira.pt
SUMMARY:Ribeira de Machico - Portela / Serra das Funduras
DESCRIPTION:Local: Santo António da Serra \nOrganização: JFSAS/AARAM \nÂmbito: Regional \nObservações: Prova de Montanha
URL:http://atletismodamadeira.pt/event/ribeira-de-machico-portela-serra-das-funduras/
LOCATION:Serra das Funduras – Ribeira de Machico\, Fajã dos Rolos - Portela\, Portugal
CATEGORIES:Montanha,Regional
END:VEVENT
END:VCALENDAR