BEGIN:VCALENDAR
VERSION:2.0
PRODID:-//Associação de Atletismo da Região Autónoma da Madeira - ECPv5.1.6//NONSGML v1.0//EN
CALSCALE:GREGORIAN
METHOD:PUBLISH
X-WR-CALNAME:Associação de Atletismo da Região Autónoma da Madeira
X-ORIGINAL-URL:http://atletismodamadeira.pt
X-WR-CALDESC:Events for Associação de Atletismo da Região Autónoma da Madeira
BEGIN:VTIMEZONE
TZID:Atlantic/Madeira
BEGIN:DAYLIGHT
TZOFFSETFROM:+0000
TZOFFSETTO:+0100
TZNAME:WEST
DTSTART:20220327T010000
END:DAYLIGHT
BEGIN:STANDARD
TZOFFSETFROM:+0100
TZOFFSETTO:+0000
TZNAME:WET
DTSTART:20221030T010000
END:STANDARD
END:VTIMEZONE
BEGIN:VEVENT
DTSTART;VALUE=DATE:20220611
DTEND;VALUE=DATE:20220612
DTSTAMP:20260423T185641
CREATED:20220513T114208Z
LAST-MODIFIED:20220611T214113Z
UID:26821-1654905600-1654991999@atletismodamadeira.pt
SUMMARY:Trail da Calheta 2022
DESCRIPTION:Âmbito: Regional \nOrganização: AARAM/ECFC \nObservações: Trail Madeira \n\nResultados – Trail curto – 11 km\nResultados Trail Longo – 26 km (Retificado)\n\n  \nATENÇÃO: O programa do Trail da Calheta foi antecipado em 1 hora.\nNovo horário de partidas:\nTrail da Calheta – 08:00\nMini Trail da Calheta – 09:30 \nNota: – O percurso da prova longa usa um trecho de um trilho de BTT\, situado entre o estradão de terra de acesso à casa dos levadeiros da Levada da Rocha Vermelha e a estrada da Central\, no alto do Lombo do Doutor; 31 de maio a 04 de junho\, o reconhecimento do percurso não será possível nestas datas\, no local especificado\, devido à realização de uma prova de enduro. \n\n(Curto)(Longo)
URL:http://atletismodamadeira.pt/event/trail-da-calheta-2022/
LOCATION:Calheta\, Portugal
CATEGORIES:Corta-Mato
END:VEVENT
BEGIN:VEVENT
DTSTART;VALUE=DATE:20220611
DTEND;VALUE=DATE:20220613
DTSTAMP:20260423T185641
CREATED:20220526T224234Z
LAST-MODIFIED:20220613T173045Z
UID:27007-1654905600-1655078399@atletismodamadeira.pt
SUMMARY:Camp. Reg. Sub20 / Camp. Reg. Absolutos / Camp. Reg. Veteranos - 2
DESCRIPTION:Local: Câmara de Lobos\, Funchal (RG3)\, Ribeira Brava (CDM) \nOrganização: AARAM \nÂmbito: Regional \n\nVerificar provas de cada Campeonato no Regulamento \nLista de Calçado Aprovado pela WA em 3 junho 2022 \n \n \nColetivas – CR Absolutos \nColetivas – CR Sub 20 \nColetiva – CR Veteranos
URL:http://atletismodamadeira.pt/event/camp-reg-sub20-e-camp-reg-absolutos-2/
LOCATION:Funchal (RG3) e Ribeira Brava (CDM)\, Sítio da Fajã da Ribeira\, Ribeira Brava\, 9350
CATEGORIES:Pista,Regional,Taça da Madeira
END:VEVENT
END:VCALENDAR